BEGIN:VCALENDAR
VERSION:2.0
PRODID:-//RoseAmongThorns - ECPv6.15.20//NONSGML v1.0//EN
CALSCALE:GREGORIAN
METHOD:PUBLISH
X-ORIGINAL-URL:https://www.roseamongthorns.florist
X-WR-CALDESC:Events for RoseAmongThorns
REFRESH-INTERVAL;VALUE=DURATION:PT1H
X-Robots-Tag:noindex
X-PUBLISHED-TTL:PT1H
BEGIN:VTIMEZONE
TZID:America/Chicago
BEGIN:DAYLIGHT
TZOFFSETFROM:-0600
TZOFFSETTO:-0500
TZNAME:CDT
DTSTART:20220313T080000
END:DAYLIGHT
BEGIN:STANDARD
TZOFFSETFROM:-0500
TZOFFSETTO:-0600
TZNAME:CST
DTSTART:20221106T070000
END:STANDARD
BEGIN:DAYLIGHT
TZOFFSETFROM:-0600
TZOFFSETTO:-0500
TZNAME:CDT
DTSTART:20230312T080000
END:DAYLIGHT
BEGIN:STANDARD
TZOFFSETFROM:-0500
TZOFFSETTO:-0600
TZNAME:CST
DTSTART:20231105T070000
END:STANDARD
BEGIN:DAYLIGHT
TZOFFSETFROM:-0600
TZOFFSETTO:-0500
TZNAME:CDT
DTSTART:20240310T080000
END:DAYLIGHT
BEGIN:STANDARD
TZOFFSETFROM:-0500
TZOFFSETTO:-0600
TZNAME:CST
DTSTART:20241103T070000
END:STANDARD
END:VTIMEZONE
BEGIN:VEVENT
DTSTART;TZID=America/Chicago:20230411T180000
DTEND;TZID=America/Chicago:20230411T210000
DTSTAMP:20260420T025539
CREATED:20230223T221500Z
LAST-MODIFIED:20230223T221554Z
UID:15386-1681236000-1681246800@www.roseamongthorns.florist
SUMMARY:April Wine & Floral Design Class
DESCRIPTION:Our Wine & Floral Design classes are the talk of the town! In our time together we will teach you how to construct your floral bouquet. We provide the materials – clippers\, flowers\, greenery\, vase\, etc – and you get to take your floral masterpiece home! This immersive class is a lovely time full of educational moments\, delicious goodies\, and a bit of beauty to take home with you! We recommend wearing comfortable\, non-skid shoes throughout the duration of the class. \nCost is $55.00 per person from 6pm – 9pm. \nSpace is limited to 16 per class! \nThis $55 class includes a complimentary charcuterie board and wine tastings (provided by Macadoodles) with the option to purchase wine by the glass or wine by the bottle! Your arrangement is yours to keep. \nBring your appetite & comfortable non-skid shoes!!
URL:https://www.roseamongthorns.florist/event/april-wine-floral-design-class/
LOCATION:Macadoodles\, 1455 E Independence\, Springfield\, MO\, 65804\, United States
ORGANIZER;CN="Theresa":MAILTO:rosamungthorns@gmail.com
END:VEVENT
BEGIN:VEVENT
DTSTART;TZID=America/Chicago:20230321T180000
DTEND;TZID=America/Chicago:20230321T210000
DTSTAMP:20260420T025539
CREATED:20230223T215231Z
LAST-MODIFIED:20230223T221326Z
UID:15383-1679421600-1679432400@www.roseamongthorns.florist
SUMMARY:March Wine & Floral Design Class
DESCRIPTION:Our Wine & Floral Design classes are the talk of the town! In our time together we will teach you how to construct your floral bouquet. We provide the materials – clippers\, flowers\, greenery\, vase\, etc – and you get to take your floral masterpiece home! This immersive class is a lovely time full of educational moments\, delicious goodies\, and a bit of beauty to take home with you! We recommend wearing comfortable\, non-skid shoes throughout the duration of the class. \nCost is $55.00 per person from 6pm – 9pm. \nSpace is limited to 16 per class! \nThis $55 class includes a complimentary charcuterie board and wine tastings (provided by Macadoodles) with the option to purchase wine by the glass or wine by the bottle! Your arrangement is yours to keep. \nBring your appetite & comfortable non-skid shoes!!
URL:https://www.roseamongthorns.florist/event/march-wine-floral-design-class/
LOCATION:Macadoodles\, 1455 E Independence\, Springfield\, MO\, 65804\, United States
ORGANIZER;CN="Theresa":MAILTO:rosamungthorns@gmail.com
END:VEVENT
BEGIN:VEVENT
DTSTART;TZID=America/Chicago:20230221T180000
DTEND;TZID=America/Chicago:20230221T210000
DTSTAMP:20260420T025539
CREATED:20230207T011906Z
LAST-MODIFIED:20230223T215944Z
UID:15273-1677002400-1677013200@www.roseamongthorns.florist
SUMMARY:February Wine & Floral Design Class
DESCRIPTION:Our Wine & Floral Design classes are the talk of the town! In our time together we will teach you how to construct your floral bouquet. We provide the materials – clippers\, flowers\, greenery\, vase\, etc – and you get to take your floral masterpiece home! This immersive class is a lovely time full of educational moments\, delicious goodies\, and a bit of beauty to take home with you! We recommend wearing comfortable\, non-skid shoes throughout the duration of the class. \nCost is $55.00 per person from 6pm – 9pm. \nSpace is limited to 16 per class! \nThis $55 class includes a complimentary charcuterie board and wine tastings (provided by Macadoodles) with the option to purchase wine by the glass or wine by the bottle! Your arrangement is yours to keep. \nBring your appetite & comfortable non-skid shoes!!
URL:https://www.roseamongthorns.florist/event/february-wine-floral-design-class/
LOCATION:Macadoodles\, 1455 E Independence\, Springfield\, MO\, 65804\, United States
END:VEVENT
END:VCALENDAR